BEGIN:VCALENDAR
VERSION:2.0
PRODID:-//eventon.com NONSGML v1.0//EN
CALSCALE:GREGORIAN
METHOD:PUBLISH
BEGIN:VEVENT
UID:69ea46f8e7ea0
DTSTAMP:20260423T162112Z
DTSTART:20260326T130000Z
DTEND:20260326T180000Z
LOCATION:JUZ Plaidt (Noldensmühle) Mühlenstr. 48
SUMMARY:Donnerstag: JUZ geöffnet
DESCRIPTION:Donnerstag: JUZ geöffnet\nhttps://juzplaidt.de/event/donnersta
 g-juz-geoeffnet-3
URL:https://juzplaidt.de/event/donnerstag-juz-geoeffnet-3
END:VEVENT
END:VCALENDAR