BEGIN:VCALENDAR
VERSION:2.0
PRODID:-//eventon.com NONSGML v1.0//EN
CALSCALE:GREGORIAN
METHOD:PUBLISH
BEGIN:VEVENT
UID:69eadc214c5c2
DTSTAMP:20260424T025737Z
DTSTART:20260702T120000Z
DTEND:20260702T170000Z
LOCATION:JUZ Plaidt (Noldensmühle) Mühlenstr. 48
SUMMARY:Donnerstag: JUZ geöffnet
DESCRIPTION:Donnerstag: JUZ geöffnet\nhttps://juzplaidt.de/event/donnersta
 g-juz-geoeffnet-3/var/ri-10.l-L1
URL:https://juzplaidt.de/event/donnerstag-juz-geoeffnet-3/var/ri-10.l-L1
END:VEVENT
END:VCALENDAR