BEGIN:VCALENDAR
VERSION:2.0
PRODID:-//eventon.com NONSGML v1.0//EN
CALSCALE:GREGORIAN
METHOD:PUBLISH
BEGIN:VEVENT
UID:69eb03b807fad
DTSTAMP:20260424T054632Z
DTSTART:20260716T120000Z
DTEND:20260716T170000Z
LOCATION:JUZ Plaidt (Noldensmühle) Mühlenstr. 48
SUMMARY:Donnerstag: JUZ geöffnet
DESCRIPTION:Donnerstag: JUZ geöffnet\nhttps://juzplaidt.de/event/donnersta
 g-juz-geoeffnet-3/var/ri-12.l-L1
URL:https://juzplaidt.de/event/donnerstag-juz-geoeffnet-3/var/ri-12.l-L1
END:VEVENT
END:VCALENDAR