BEGIN:VCALENDAR
VERSION:2.0
PRODID:-//eventon.com NONSGML v1.0//EN
CALSCALE:GREGORIAN
METHOD:PUBLISH
BEGIN:VEVENT
UID:69ea4a188b71d
DTSTAMP:20260423T163432Z
DTSTART:20260416T120000Z
DTEND:20260416T170000Z
LOCATION:JUZ Plaidt (Noldensmühle) Mühlenstr. 48
SUMMARY:Donnerstag: JUZ geöffnet
DESCRIPTION:Donnerstag: JUZ geöffnet\nhttps://juzplaidt.de/event/donnersta
 g-juz-geoeffnet-3/var/ri-2.l-L1
URL:https://juzplaidt.de/event/donnerstag-juz-geoeffnet-3/var/ri-2.l-L1
END:VEVENT
END:VCALENDAR