BEGIN:VCALENDAR
VERSION:2.0
PRODID:-//eventon.com NONSGML v1.0//EN
CALSCALE:GREGORIAN
METHOD:PUBLISH
BEGIN:VEVENT
UID:69ea79761a396
DTSTAMP:20260423T195638Z
DTSTART:20260521T120000Z
DTEND:20260521T170000Z
LOCATION:JUZ Plaidt (Noldensmühle) Mühlenstr. 48
SUMMARY:Donnerstag: JUZ geöffnet
DESCRIPTION:Donnerstag: JUZ geöffnet\nhttps://juzplaidt.de/event/donnersta
 g-juz-geoeffnet-3/var/ri-6.l-L1
URL:https://juzplaidt.de/event/donnerstag-juz-geoeffnet-3/var/ri-6.l-L1
END:VEVENT
END:VCALENDAR