BEGIN:VCALENDAR
VERSION:2.0
PRODID:-//eventon.com NONSGML v1.0//EN
CALSCALE:GREGORIAN
METHOD:PUBLISH
BEGIN:VEVENT
UID:69ea93e41d327
DTSTAMP:20260423T214924Z
DTSTART:20260611T120000Z
DTEND:20260611T170000Z
LOCATION:JUZ Plaidt (Noldensmühle) Mühlenstr. 48
SUMMARY:Donnerstag: JUZ geöffnet
DESCRIPTION:Donnerstag: JUZ geöffnet\nhttps://juzplaidt.de/event/donnersta
 g-juz-geoeffnet-3/var/ri-7.l-L1
URL:https://juzplaidt.de/event/donnerstag-juz-geoeffnet-3/var/ri-7.l-L1
END:VEVENT
END:VCALENDAR